BEGIN:VCALENDAR
VERSION:2.0
PRODID:-//Forward-Facing Institute - ECPv6.15.20//NONSGML v1.0//EN
CALSCALE:GREGORIAN
METHOD:PUBLISH
X-WR-CALNAME:Forward-Facing Institute
X-ORIGINAL-URL:https://forward-facing.com
X-WR-CALDESC:Events for Forward-Facing Institute
REFRESH-INTERVAL;VALUE=DURATION:PT1H
X-Robots-Tag:noindex
X-PUBLISHED-TTL:PT1H
BEGIN:VTIMEZONE
TZID:America/Phoenix
BEGIN:STANDARD
TZOFFSETFROM:-0700
TZOFFSETTO:-0700
TZNAME:MST
DTSTART:20240101T000000
END:STANDARD
END:VTIMEZONE
BEGIN:VEVENT
DTSTART;TZID=America/Phoenix:20250506T170000
DTEND;TZID=America/Phoenix:20250506T181500
DTSTAMP:20260422T154237
CREATED:20250430T155812Z
LAST-MODIFIED:20250430T155843Z
UID:8850-1746550800-1746555300@forward-facing.com
SUMMARY:Alumni Group May 6\, 2025
DESCRIPTION:Join Dr. Gentry and members of the Forward-Facing® community to share stories and insights from your everyday self-regulation practice. Open exclusively to FFME alumni.
URL:https://forward-facing.com/event/alumni-group-may-6-2025/
LOCATION:Zoom Virtual Event
CATEGORIES:Alumni Group
ATTACH;FMTTYPE=image/png:https://forward-facing.com/wp-content/uploads/2022/09/Untitled-design-2022-09-30T003238.303.png
END:VEVENT
BEGIN:VEVENT
DTSTART;TZID=America/Phoenix:20250513T170000
DTEND;TZID=America/Phoenix:20250513T181500
DTSTAMP:20260422T154237
CREATED:20250430T160033Z
LAST-MODIFIED:20250430T160357Z
UID:8855-1747155600-1747160100@forward-facing.com
SUMMARY:Alumni Group May 13\, 2025
DESCRIPTION:Join Dr. Gentry and members of the Forward-Facing® community to share stories and insights from your everyday self-regulation practice. Open exclusively to FFME alumni.
URL:https://forward-facing.com/event/alumni-group-may-13-2025/
LOCATION:Zoom Virtual Event
CATEGORIES:Alumni Group
ATTACH;FMTTYPE=image/png:https://forward-facing.com/wp-content/uploads/2022/09/Untitled-design-2022-09-30T003238.303.png
END:VEVENT
BEGIN:VEVENT
DTSTART;TZID=America/Phoenix:20250520T170000
DTEND;TZID=America/Phoenix:20250520T181500
DTSTAMP:20260422T154237
CREATED:20250430T160318Z
LAST-MODIFIED:20250430T160318Z
UID:8860-1747760400-1747764900@forward-facing.com
SUMMARY:Alumni Group May 20\, 2025
DESCRIPTION:Join Dr. Gentry and members of the Forward-Facing® community to share stories and insights from your everyday self-regulation practice. Open exclusively to FFME alumni.
URL:https://forward-facing.com/event/alumni-group-may-20-2025/
LOCATION:Zoom Virtual Event
CATEGORIES:Alumni Group
ATTACH;FMTTYPE=image/png:https://forward-facing.com/wp-content/uploads/2022/09/Untitled-design-2022-09-30T003238.303.png
END:VEVENT
BEGIN:VEVENT
DTSTART;TZID=America/Phoenix:20250527T170000
DTEND;TZID=America/Phoenix:20250527T181500
DTSTAMP:20260422T154237
CREATED:20250430T162849Z
LAST-MODIFIED:20250430T162849Z
UID:8865-1748365200-1748369700@forward-facing.com
SUMMARY:Alumni Group May 27\, 2025
DESCRIPTION:Join Dr. Gentry and members of the Forward-Facing® community to share stories and insights from your everyday self-regulation practice. Open exclusively to FFME alumni.
URL:https://forward-facing.com/event/alumni-group-may-27-2025/
LOCATION:Zoom Virtual Event
CATEGORIES:Alumni Group
ATTACH;FMTTYPE=image/png:https://forward-facing.com/wp-content/uploads/2022/09/Untitled-design-2022-09-30T003238.303.png
END:VEVENT
BEGIN:VEVENT
DTSTART;TZID=America/Phoenix:20250603T170000
DTEND;TZID=America/Phoenix:20250603T181500
DTSTAMP:20260422T154237
CREATED:20250602T172309Z
LAST-MODIFIED:20250602T172309Z
UID:8877-1748970000-1748974500@forward-facing.com
SUMMARY:Alumni Group June 3\, 2025
DESCRIPTION:Join Dr. Gentry and members of the Forward-Facing® community to share stories and insights from your everyday self-regulation practice. Open exclusively to FFME alumni.
URL:https://forward-facing.com/event/alumni-group-june-3-2025/
LOCATION:Zoom Virtual Event
CATEGORIES:Alumni Group
ATTACH;FMTTYPE=image/png:https://forward-facing.com/wp-content/uploads/2022/09/Untitled-design-2022-09-30T003238.303.png
END:VEVENT
BEGIN:VEVENT
DTSTART;TZID=America/Phoenix:20250610T170000
DTEND;TZID=America/Phoenix:20250610T181500
DTSTAMP:20260422T154237
CREATED:20250602T172749Z
LAST-MODIFIED:20250602T172749Z
UID:8882-1749574800-1749579300@forward-facing.com
SUMMARY:Alumni Group June 10\, 2025
DESCRIPTION:Join Dr. Gentry and members of the Forward-Facing® community to share stories and insights from your everyday self-regulation practice. Open exclusively to FFME alumni.
URL:https://forward-facing.com/event/alumni-group-june-10-2025/
LOCATION:Zoom Virtual Event
CATEGORIES:Alumni Group
ATTACH;FMTTYPE=image/png:https://forward-facing.com/wp-content/uploads/2022/09/Untitled-design-2022-09-30T003238.303.png
END:VEVENT
BEGIN:VEVENT
DTSTART;TZID=America/Phoenix:20250617T170000
DTEND;TZID=America/Phoenix:20250617T181500
DTSTAMP:20260422T154237
CREATED:20250602T173403Z
LAST-MODIFIED:20250602T173403Z
UID:8890-1750179600-1750184100@forward-facing.com
SUMMARY:Alumni Group June 17\, 2025
DESCRIPTION:Join Dr. Gentry and members of the Forward-Facing® community to share stories and insights from your everyday self-regulation practice. Open exclusively to FFME alumni.
URL:https://forward-facing.com/event/alumni-group-june-17-2025/
LOCATION:Zoom Virtual Event
CATEGORIES:Alumni Group
ATTACH;FMTTYPE=image/png:https://forward-facing.com/wp-content/uploads/2022/09/Untitled-design-2022-09-30T003238.303.png
END:VEVENT
BEGIN:VEVENT
DTSTART;TZID=America/Phoenix:20250624T170000
DTEND;TZID=America/Phoenix:20250624T181500
DTSTAMP:20260422T154237
CREATED:20250602T192309Z
LAST-MODIFIED:20250602T192344Z
UID:8887-1750784400-1750788900@forward-facing.com
SUMMARY:Alumni Group June 24\, 2025
DESCRIPTION:Join Dr. Gentry and members of the Forward-Facing® community to share stories and insights from your everyday self-regulation practice. Open exclusively to FFME alumni.
URL:https://forward-facing.com/event/alumni-group-june-24-2025/
LOCATION:Zoom Virtual Event
CATEGORIES:Alumni Group
ATTACH;FMTTYPE=image/png:https://forward-facing.com/wp-content/uploads/2022/09/Untitled-design-2022-09-30T003238.303.png
END:VEVENT
BEGIN:VEVENT
DTSTART;TZID=America/Phoenix:20250701T170000
DTEND;TZID=America/Phoenix:20250701T181500
DTSTAMP:20260422T154237
CREATED:20250630T172617Z
LAST-MODIFIED:20250630T172617Z
UID:8902-1751389200-1751393700@forward-facing.com
SUMMARY:Alumni Group July 1\, 2025
DESCRIPTION:Join Dr. Gentry and members of the Forward-Facing® community to share stories and insights from your everyday self-regulation practice. Open exclusively to FFME alumni.
URL:https://forward-facing.com/event/alumni-group-july-1-2025/
LOCATION:Zoom Virtual Event
CATEGORIES:Alumni Group
ATTACH;FMTTYPE=image/png:https://forward-facing.com/wp-content/uploads/2022/09/Untitled-design-2022-09-30T003238.303.png
END:VEVENT
BEGIN:VEVENT
DTSTART;TZID=America/Phoenix:20250708T170000
DTEND;TZID=America/Phoenix:20250708T181500
DTSTAMP:20260422T154237
CREATED:20250630T172835Z
LAST-MODIFIED:20250630T172835Z
UID:8907-1751994000-1751998500@forward-facing.com
SUMMARY:Alumni Group July 8\, 2025
DESCRIPTION:Join Dr. Gentry and members of the Forward-Facing® community to share stories and insights from your everyday self-regulation practice. Open exclusively to FFME alumni.
URL:https://forward-facing.com/event/alumni-group-july-8-2025/
LOCATION:Zoom Virtual Event
CATEGORIES:Alumni Group
ATTACH;FMTTYPE=image/png:https://forward-facing.com/wp-content/uploads/2022/09/Untitled-design-2022-09-30T003238.303.png
END:VEVENT
BEGIN:VEVENT
DTSTART;TZID=America/Phoenix:20250715T170000
DTEND;TZID=America/Phoenix:20250715T181500
DTSTAMP:20260422T154237
CREATED:20250630T173718Z
LAST-MODIFIED:20250630T173718Z
UID:8912-1752598800-1752603300@forward-facing.com
SUMMARY:Alumni Group July 15\, 2025
DESCRIPTION:Join Dr. Gentry and members of the Forward-Facing® community to share stories and insights from your everyday self-regulation practice. Open exclusively to FFME alumni.
URL:https://forward-facing.com/event/alumni-group-july-15-2025/
LOCATION:Zoom Virtual Event
CATEGORIES:Alumni Group
ATTACH;FMTTYPE=image/png:https://forward-facing.com/wp-content/uploads/2022/09/Untitled-design-2022-09-30T003238.303.png
END:VEVENT
BEGIN:VEVENT
DTSTART;TZID=America/Phoenix:20250722T170000
DTEND;TZID=America/Phoenix:20250722T181500
DTSTAMP:20260422T154237
CREATED:20250630T174150Z
LAST-MODIFIED:20250630T174150Z
UID:8922-1753203600-1753208100@forward-facing.com
SUMMARY:Alumni Group July 22\, 2025
DESCRIPTION:Join Dr. Gentry and members of the Forward-Facing® community to share stories and insights from your everyday self-regulation practice. Open exclusively to FFME alumni.
URL:https://forward-facing.com/event/alumni-group-july-22-2025-2/
LOCATION:Zoom Virtual Event
CATEGORIES:Alumni Group
ATTACH;FMTTYPE=image/png:https://forward-facing.com/wp-content/uploads/2022/09/Untitled-design-2022-09-30T003238.303.png
END:VEVENT
BEGIN:VEVENT
DTSTART;TZID=America/Phoenix:20250729T170000
DTEND;TZID=America/Phoenix:20250729T181500
DTSTAMP:20260422T154237
CREATED:20250630T173906Z
LAST-MODIFIED:20250630T174047Z
UID:8917-1753808400-1753812900@forward-facing.com
SUMMARY:Alumni Group July 29\, 2025
DESCRIPTION:Join Dr. Gentry and members of the Forward-Facing® community to share stories and insights from your everyday self-regulation practice. Open exclusively to FFME alumni.
URL:https://forward-facing.com/event/alumni-group-july-22-2025/
LOCATION:Zoom Virtual Event
CATEGORIES:Alumni Group
ATTACH;FMTTYPE=image/png:https://forward-facing.com/wp-content/uploads/2022/09/Untitled-design-2022-09-30T003238.303.png
END:VEVENT
BEGIN:VEVENT
DTSTART;TZID=America/Phoenix:20250902T170000
DTEND;TZID=America/Phoenix:20250902T181500
DTSTAMP:20260422T154237
CREATED:20250827T204020Z
LAST-MODIFIED:20250827T204020Z
UID:8963-1756832400-1756836900@forward-facing.com
SUMMARY:Alumni Group September 2\, 2025
DESCRIPTION:Join Dr. Gentry and members of the Forward-Facing® community to share stories and insights from your everyday self-regulation practice. Open exclusively to FFME alumni.
URL:https://forward-facing.com/event/alumni-group-september-2-2025/
LOCATION:Zoom Virtual Event
CATEGORIES:Alumni Group
ATTACH;FMTTYPE=image/png:https://forward-facing.com/wp-content/uploads/2022/09/Untitled-design-2022-09-30T003238.303.png
END:VEVENT
BEGIN:VEVENT
DTSTART;TZID=America/Phoenix:20250909T170000
DTEND;TZID=America/Phoenix:20250909T181500
DTSTAMP:20260422T154237
CREATED:20250827T204327Z
LAST-MODIFIED:20250827T204327Z
UID:8968-1757437200-1757441700@forward-facing.com
SUMMARY:Alumni Group September 9\, 2025
DESCRIPTION:Join Dr. Gentry and members of the Forward-Facing® community to share stories and insights from your everyday self-regulation practice. Open exclusively to FFME alumni.
URL:https://forward-facing.com/event/alumni-group-september-9-2025/
LOCATION:Zoom Virtual Event
CATEGORIES:Alumni Group
ATTACH;FMTTYPE=image/png:https://forward-facing.com/wp-content/uploads/2022/09/Untitled-design-2022-09-30T003238.303.png
END:VEVENT
BEGIN:VEVENT
DTSTART;TZID=America/Phoenix:20250916T170000
DTEND;TZID=America/Phoenix:20250916T181500
DTSTAMP:20260422T154237
CREATED:20250827T213111Z
LAST-MODIFIED:20250827T213111Z
UID:8973-1758042000-1758046500@forward-facing.com
SUMMARY:Alumni Group September 16\, 2025
DESCRIPTION:Join Dr. Gentry and members of the Forward-Facing® community to share stories and insights from your everyday self-regulation practice. Open exclusively to FFME alumni.
URL:https://forward-facing.com/event/alumni-group-september-16-2025/
LOCATION:Zoom Virtual Event
CATEGORIES:Alumni Group
ATTACH;FMTTYPE=image/png:https://forward-facing.com/wp-content/uploads/2022/09/Untitled-design-2022-09-30T003238.303.png
END:VEVENT
BEGIN:VEVENT
DTSTART;TZID=America/Phoenix:20250923T170000
DTEND;TZID=America/Phoenix:20250923T181500
DTSTAMP:20260422T154237
CREATED:20250827T213947Z
LAST-MODIFIED:20250827T213947Z
UID:8978-1758646800-1758651300@forward-facing.com
SUMMARY:Alumni Group September 23\, 2025
DESCRIPTION:Join Dr. Gentry and members of the Forward-Facing® community to share stories and insights from your everyday self-regulation practice. Open exclusively to FFME alumni.
URL:https://forward-facing.com/event/alumni-group-september-23-2025/
LOCATION:Zoom Virtual Event
CATEGORIES:Alumni Group
ATTACH;FMTTYPE=image/png:https://forward-facing.com/wp-content/uploads/2022/09/Untitled-design-2022-09-30T003238.303.png
END:VEVENT
BEGIN:VEVENT
DTSTART;TZID=America/Phoenix:20250930T170000
DTEND;TZID=America/Phoenix:20250930T181500
DTSTAMP:20260422T154237
CREATED:20250827T214231Z
LAST-MODIFIED:20250827T214231Z
UID:8983-1759251600-1759256100@forward-facing.com
SUMMARY:Alumni Group September 30\, 2025
DESCRIPTION:Join Dr. Gentry and members of the Forward-Facing® community to share stories and insights from your everyday self-regulation practice. Open exclusively to FFME alumni.
URL:https://forward-facing.com/event/alumni-group-september-30-2025/
LOCATION:Zoom Virtual Event
CATEGORIES:Alumni Group
ATTACH;FMTTYPE=image/png:https://forward-facing.com/wp-content/uploads/2022/09/Untitled-design-2022-09-30T003238.303.png
END:VEVENT
BEGIN:VEVENT
DTSTART;TZID=America/Phoenix:20251007T170000
DTEND;TZID=America/Phoenix:20251007T181500
DTSTAMP:20260422T154237
CREATED:20250930T203903Z
LAST-MODIFIED:20250930T203903Z
UID:8993-1759856400-1759860900@forward-facing.com
SUMMARY:Alumni Group October 7\, 2025
DESCRIPTION:Join Dr. Gentry and members of the Forward-Facing® community to share stories and insights from your everyday self-regulation practice. Open exclusively to FFME alumni.
URL:https://forward-facing.com/event/alumni-group-october-7-2025/
LOCATION:Zoom Virtual Event
CATEGORIES:Alumni Group
ATTACH;FMTTYPE=image/png:https://forward-facing.com/wp-content/uploads/2022/09/Untitled-design-2022-09-30T003238.303.png
END:VEVENT
BEGIN:VEVENT
DTSTART;TZID=America/Phoenix:20251014T170000
DTEND;TZID=America/Phoenix:20251014T181500
DTSTAMP:20260422T154237
CREATED:20250930T205225Z
LAST-MODIFIED:20250930T205225Z
UID:8998-1760461200-1760465700@forward-facing.com
SUMMARY:Alumni Group October 14\, 2025
DESCRIPTION:Join Dr. Gentry and members of the Forward-Facing® community to share stories and insights from your everyday self-regulation practice. Open exclusively to FFME alumni.
URL:https://forward-facing.com/event/alumni-group-october-14-2025/
LOCATION:Zoom Virtual Event
CATEGORIES:Alumni Group
ATTACH;FMTTYPE=image/png:https://forward-facing.com/wp-content/uploads/2022/09/Untitled-design-2022-09-30T003238.303.png
END:VEVENT
BEGIN:VEVENT
DTSTART;TZID=America/Phoenix:20251021T170000
DTEND;TZID=America/Phoenix:20251021T181500
DTSTAMP:20260422T154237
CREATED:20250930T205712Z
LAST-MODIFIED:20250930T205712Z
UID:9003-1761066000-1761070500@forward-facing.com
SUMMARY:Alumni Group October 21\, 2025
DESCRIPTION:Join Dr. Gentry and members of the Forward-Facing® community to share stories and insights from your everyday self-regulation practice. Open exclusively to FFME alumni.
URL:https://forward-facing.com/event/alumni-group-october-21-2025/
LOCATION:Zoom Virtual Event
CATEGORIES:Alumni Group
ATTACH;FMTTYPE=image/png:https://forward-facing.com/wp-content/uploads/2022/09/Untitled-design-2022-09-30T003238.303.png
END:VEVENT
BEGIN:VEVENT
DTSTART;TZID=America/Phoenix:20251028T170000
DTEND;TZID=America/Phoenix:20251028T181500
DTSTAMP:20260422T154237
CREATED:20250930T205915Z
LAST-MODIFIED:20250930T205915Z
UID:9008-1761670800-1761675300@forward-facing.com
SUMMARY:Alumni Group October 28\, 2025
DESCRIPTION:Join Dr. Gentry and members of the Forward-Facing® community to share stories and insights from your everyday self-regulation practice. Open exclusively to FFME alumni.
URL:https://forward-facing.com/event/alumni-group-october-28-2025/
LOCATION:Zoom Virtual Event
CATEGORIES:Alumni Group
ATTACH;FMTTYPE=image/png:https://forward-facing.com/wp-content/uploads/2022/09/Untitled-design-2022-09-30T003238.303.png
END:VEVENT
BEGIN:VEVENT
DTSTART;TZID=America/Phoenix:20251109T170000
DTEND;TZID=America/Phoenix:20251109T181500
DTSTAMP:20260422T154237
CREATED:20251104T181625Z
LAST-MODIFIED:20251104T183550Z
UID:9018-1762707600-1762712100@forward-facing.com
SUMMARY:Alumni Group November 9\, 2025
DESCRIPTION:Join Dr. Gentry and members of the Forward-Facing® community to share stories and insights from your everyday self-regulation practice. Open exclusively to FFME alumni.
URL:https://forward-facing.com/event/alumni-group-november-10-2025/
LOCATION:Zoom Virtual Event
CATEGORIES:Alumni Group
ATTACH;FMTTYPE=image/png:https://forward-facing.com/wp-content/uploads/2022/09/Untitled-design-2022-09-30T003238.303.png
END:VEVENT
BEGIN:VEVENT
DTSTART;TZID=America/Phoenix:20251123T170000
DTEND;TZID=America/Phoenix:20251123T181500
DTSTAMP:20260422T154237
CREATED:20251104T182114Z
LAST-MODIFIED:20251104T183412Z
UID:9023-1763917200-1763921700@forward-facing.com
SUMMARY:Alumni Group November 23\, 2025
DESCRIPTION:Join Dr. Gentry and members of the Forward-Facing® community to share stories and insights from your everyday self-regulation practice. Open exclusively to FFME alumni.
URL:https://forward-facing.com/event/alumni-group-november-24-2025/
LOCATION:Zoom Virtual Event
CATEGORIES:Alumni Group
ATTACH;FMTTYPE=image/png:https://forward-facing.com/wp-content/uploads/2022/09/Untitled-design-2022-09-30T003238.303.png
END:VEVENT
BEGIN:VEVENT
DTSTART;TZID=America/Phoenix:20251214T170000
DTEND;TZID=America/Phoenix:20251214T181500
DTSTAMP:20260422T154237
CREATED:20251104T182343Z
LAST-MODIFIED:20251104T183123Z
UID:9028-1765731600-1765736100@forward-facing.com
SUMMARY:Alumni Group December 14\, 2025
DESCRIPTION:Join Dr. Gentry and members of the Forward-Facing® community to share stories and insights from your everyday self-regulation practice. Open exclusively to FFME alumni.
URL:https://forward-facing.com/event/alumni-group-december-8-2025/
LOCATION:Zoom Virtual Event
CATEGORIES:Alumni Group
ATTACH;FMTTYPE=image/png:https://forward-facing.com/wp-content/uploads/2022/09/Untitled-design-2022-09-30T003238.303.png
END:VEVENT
BEGIN:VEVENT
DTSTART;TZID=America/Phoenix:20251228T170000
DTEND;TZID=America/Phoenix:20251228T181500
DTSTAMP:20260422T154237
CREATED:20251104T182637Z
LAST-MODIFIED:20251104T183245Z
UID:9033-1766941200-1766945700@forward-facing.com
SUMMARY:Alumni Group December 28\, 2025
DESCRIPTION:Join Dr. Gentry and members of the Forward-Facing® community to share stories and insights from your everyday self-regulation practice. Open exclusively to FFME alumni.
URL:https://forward-facing.com/event/alumni-group-december-22-2025/
LOCATION:Zoom Virtual Event
CATEGORIES:Alumni Group
ATTACH;FMTTYPE=image/png:https://forward-facing.com/wp-content/uploads/2022/09/Untitled-design-2022-09-30T003238.303.png
END:VEVENT
BEGIN:VEVENT
DTSTART;TZID=America/Phoenix:20260111T170000
DTEND;TZID=America/Phoenix:20260111T181500
DTSTAMP:20260422T154237
CREATED:20260106T193659Z
LAST-MODIFIED:20260106T195237Z
UID:9073-1768150800-1768155300@forward-facing.com
SUMMARY:Alumni Group January 11\, 2026
DESCRIPTION:Join Dr. Gentry and members of the Forward-Facing® community to share stories and insights from your everyday self-regulation practice. Open exclusively to FFME alumni. \n\nPacific: 4:00–5:15 PM\nMountain: 5:00–6:15 PM\nCentral: 6:00–7:15 PM\nEastern: 7:00–8:15 PM
URL:https://forward-facing.com/event/alumni-group-january-11-2026/
CATEGORIES:Alumni Group
ATTACH;FMTTYPE=image/png:https://forward-facing.com/wp-content/uploads/2022/09/Untitled-design-2022-09-30T003238.303.png
END:VEVENT
BEGIN:VEVENT
DTSTART;TZID=America/Phoenix:20260125T170000
DTEND;TZID=America/Phoenix:20260125T181500
DTSTAMP:20260422T154237
CREATED:20260106T195315Z
LAST-MODIFIED:20260114T175908Z
UID:9076-1769360400-1769364900@forward-facing.com
SUMMARY:Alumni Group January 25\, 2026
DESCRIPTION:Join Dr. Gentry and members of the Forward-Facing® community to share stories and insights from your everyday self-regulation practice. Open exclusively to FFME alumni. \n\nPacific: 4:00–5:15 PM\nMountain: 5:00–6:15 PM\nCentral: 6:00–7:15 PM\nEastern: 7:00–8:15 PM
URL:https://forward-facing.com/event/alumni-group-january-25-2026/
CATEGORIES:Alumni Group
ATTACH;FMTTYPE=image/png:https://forward-facing.com/wp-content/uploads/2022/09/Untitled-design-2022-09-30T003238.303.png
END:VEVENT
BEGIN:VEVENT
DTSTART;TZID=America/Phoenix:20260208T190000
DTEND;TZID=America/Phoenix:20260208T201500
DTSTAMP:20260422T154237
CREATED:20260128T170703Z
LAST-MODIFIED:20260128T170703Z
UID:9104-1770577200-1770581700@forward-facing.com
SUMMARY:Alumni Group February 8\, 2026
DESCRIPTION:Join Dr. Gentry and members of the Forward-Facing® community to share stories and insights from your everyday self-regulation practice. Open exclusively to FFME alumni. \n\nPacific: 4:00–5:15 PM\nMountain: 5:00–6:15 PM\nCentral: 6:00–7:15 PM\nEastern: 7:00–8:15 PM
URL:https://forward-facing.com/event/alumni-group-february-8-2026/
CATEGORIES:Alumni Group
ATTACH;FMTTYPE=image/png:https://forward-facing.com/wp-content/uploads/2022/09/Untitled-design-2022-09-30T003238.303.png
END:VEVENT
BEGIN:VEVENT
DTSTART;TZID=America/Phoenix:20260222T170000
DTEND;TZID=America/Phoenix:20260222T181500
DTSTAMP:20260422T154237
CREATED:20260128T171557Z
LAST-MODIFIED:20260220T203715Z
UID:9107-1771779600-1771784100@forward-facing.com
SUMMARY:Alumni Group February 22\, 2026
DESCRIPTION:Join Dr. Gentry and members of the Forward-Facing® community to share stories and insights from your everyday self-regulation practice. Open exclusively to FFME alumni. \n\nPacific: 4:00–5:15 PM\nMountain: 5:00–6:15 PM\nCentral: 6:00–7:15 PM\nEastern: 7:00–8:15 PM
URL:https://forward-facing.com/event/alumni-group-february-22-2026/
CATEGORIES:Alumni Group
ATTACH;FMTTYPE=image/png:https://forward-facing.com/wp-content/uploads/2022/09/Untitled-design-2022-09-30T003238.303.png
END:VEVENT
END:VCALENDAR