BEGIN:VCALENDAR
VERSION:2.0
PRODID:-//Forward-Facing Institute - ECPv6.15.20//NONSGML v1.0//EN
CALSCALE:GREGORIAN
METHOD:PUBLISH
X-WR-CALNAME:Forward-Facing Institute
X-ORIGINAL-URL:https://forward-facing.com
X-WR-CALDESC:Events for Forward-Facing Institute
REFRESH-INTERVAL;VALUE=DURATION:PT1H
X-Robots-Tag:noindex
X-PUBLISHED-TTL:PT1H
BEGIN:VTIMEZONE
TZID:America/Phoenix
BEGIN:STANDARD
TZOFFSETFROM:-0700
TZOFFSETTO:-0700
TZNAME:MST
DTSTART:20250101T000000
END:STANDARD
END:VTIMEZONE
BEGIN:VEVENT
DTSTART;TZID=America/Phoenix:20260111T170000
DTEND;TZID=America/Phoenix:20260111T181500
DTSTAMP:20260420T010159
CREATED:20260106T193659Z
LAST-MODIFIED:20260106T195237Z
UID:9073-1768150800-1768155300@forward-facing.com
SUMMARY:Alumni Group January 11\, 2026
DESCRIPTION:Join Dr. Gentry and members of the Forward-Facing® community to share stories and insights from your everyday self-regulation practice. Open exclusively to FFME alumni. \n\nPacific: 4:00–5:15 PM\nMountain: 5:00–6:15 PM\nCentral: 6:00–7:15 PM\nEastern: 7:00–8:15 PM
URL:https://forward-facing.com/event/alumni-group-january-11-2026/
CATEGORIES:Alumni Group
ATTACH;FMTTYPE=image/png:https://forward-facing.com/wp-content/uploads/2022/09/Untitled-design-2022-09-30T003238.303.png
END:VEVENT
BEGIN:VEVENT
DTSTART;TZID=America/Phoenix:20260125T170000
DTEND;TZID=America/Phoenix:20260125T181500
DTSTAMP:20260420T010159
CREATED:20260106T195315Z
LAST-MODIFIED:20260114T175908Z
UID:9076-1769360400-1769364900@forward-facing.com
SUMMARY:Alumni Group January 25\, 2026
DESCRIPTION:Join Dr. Gentry and members of the Forward-Facing® community to share stories and insights from your everyday self-regulation practice. Open exclusively to FFME alumni. \n\nPacific: 4:00–5:15 PM\nMountain: 5:00–6:15 PM\nCentral: 6:00–7:15 PM\nEastern: 7:00–8:15 PM
URL:https://forward-facing.com/event/alumni-group-january-25-2026/
CATEGORIES:Alumni Group
ATTACH;FMTTYPE=image/png:https://forward-facing.com/wp-content/uploads/2022/09/Untitled-design-2022-09-30T003238.303.png
END:VEVENT
END:VCALENDAR